BEGIN:VCALENDAR
VERSION:2.0
PRODID:-//Grezosp - ECPv4.6.4//NONSGML v1.0//EN
CALSCALE:GREGORIAN
METHOD:PUBLISH
X-WR-CALNAME:Grezosp
X-ORIGINAL-URL:http://grezosp.com
X-WR-CALDESC:Events for Grezosp
BEGIN:VEVENT
DTSTART;VALUE=DATE:20180920
DTEND;VALUE=DATE:20180921
DTSTAMP:20260421T181147
CREATED:20180604T182119Z
LAST-MODIFIED:20180712T173308Z
UID:2729-1537401600-1537487999@grezosp.com
SUMMARY:6e édition du Colloque en santé publique vétérinaire
DESCRIPTION:La 6e édition du Colloque en santé publique vétérinaire aura lieu le jeudi 20 septembre 2018 de 8h à 17h. \nLes présentations des conférences invités auront lieu à l’Amphithéâtre 1134 du Pavillon principal\, Faculté de médecine vétérinaire\, 3200 rue Sicotte\, Saint-Hyacinthe. \nL’atelier de l’après-midi aura lieu au Jardin Daniel A. Séguin. \nProgramme à venir \n
URL:http://grezosp.com/event/6e-edition-du-colloque-en-sante-publique-veterinaire/
END:VEVENT
END:VCALENDAR