BEGIN:VCALENDAR
VERSION:2.0
PRODID:-//Grezosp - ECPv4.6.4//NONSGML v1.0//EN
CALSCALE:GREGORIAN
METHOD:PUBLISH
X-WR-CALNAME:Grezosp
X-ORIGINAL-URL:http://grezosp.com
X-WR-CALDESC:Events for Grezosp
BEGIN:VEVENT
DTSTART;TZID=UTC-5:20180430T100000
DTEND;TZID=UTC-5:20180430T100000
DTSTAMP:20260424T085207
CREATED:20180209T143437Z
LAST-MODIFIED:20180209T223719Z
UID:1976-1525082400-1525082400@grezosp.com
SUMMARY:Comité social
DESCRIPTION:Agora du GREZOSP salle 2219 \n
URL:http://grezosp.com/event/comite-social-pause-cafe-et-biscuit-2/
END:VEVENT
END:VCALENDAR