BEGIN:VCALENDAR
VERSION:2.0
PRODID:-//Grezosp - ECPv4.6.4//NONSGML v1.0//EN
CALSCALE:GREGORIAN
METHOD:PUBLISH
X-WR-CALNAME:Grezosp
X-ORIGINAL-URL:http://grezosp.com
X-WR-CALDESC:Events for Grezosp
BEGIN:VEVENT
DTSTART;TZID=UTC-5:20180521T100000
DTEND;TZID=UTC-5:20180521T100000
DTSTAMP:20260423T235637
CREATED:20180209T143938Z
LAST-MODIFIED:20180209T223053Z
UID:1988-1526896800-1526896800@grezosp.com
SUMMARY:Comité social
DESCRIPTION:Agora du GREZOSP salle 2219 \n
URL:http://grezosp.com/event/comite-social-pause-cafe-et-biscuit-8/
END:VEVENT
END:VCALENDAR