BEGIN:VCALENDAR
VERSION:2.0
PRODID:-//Grezosp - ECPv4.6.4//NONSGML v1.0//EN
CALSCALE:GREGORIAN
METHOD:PUBLISH
X-WR-CALNAME:Grezosp
X-ORIGINAL-URL:http://grezosp.com
X-WR-CALDESC:Events for Grezosp
BEGIN:VEVENT
DTSTART;TZID=UTC-5:20180815T170000
DTEND;TZID=UTC-5:20180815T170000
DTSTAMP:20260423T113254
CREATED:20180209T115457Z
LAST-MODIFIED:20180209T121534Z
UID:1949-1534352400-1534352400@grezosp.com
SUMMARY:Date de tombée pour les demandes de bourses de recrutement et de dépannage
DESCRIPTION:
URL:http://grezosp.com/event/date-de-tombee-pour-les-demandes-de-bourses-de-recrutement-et-de-depannage/
END:VEVENT
END:VCALENDAR