BEGIN:VCALENDAR
VERSION:2.0
PRODID:-//Grezosp - ECPv4.6.4//NONSGML v1.0//EN
CALSCALE:GREGORIAN
METHOD:PUBLISH
X-WR-CALNAME:Grezosp
X-ORIGINAL-URL:http://grezosp.com
X-WR-CALDESC:Events for Grezosp
BEGIN:VEVENT
DTSTART;TZID=UTC-5:20180615T090000
DTEND;TZID=UTC-5:20180615T101500
DTSTAMP:20260423T153220
CREATED:20180530T204351Z
LAST-MODIFIED:20180613T192944Z
UID:2669-1529053200-1529057700@grezosp.com
SUMMARY:Échanges du GREZOSP
DESCRIPTION:Dans le cadre des Échanges du GREZOSP\, nous vous invitons le vendredi 15 juin de 9h à 10h15 à suivre le webinaire organisé par l’Observatoire : \n« Introduction aux changements climatiques et risques biologiques » par les conférenciers Mirna Panić de l’ASPC et Julio Soto de l’INSPQ. \nLes membres du GREZOSP pourront se joindre en présentiel dans l’Agora ou via leur ordinateur personnel (informations de connexion déjà envoyées dans le message de l’annonce). \n
URL:http://grezosp.com/event/echanges-du-grezosp-20/
END:VEVENT
END:VCALENDAR