BEGIN:VCALENDAR
VERSION:2.0
PRODID:-//Grezosp - ECPv4.6.4//NONSGML v1.0//EN
CALSCALE:GREGORIAN
METHOD:PUBLISH
X-WR-CALNAME:Grezosp
X-ORIGINAL-URL:http://grezosp.com
X-WR-CALDESC:Events for Grezosp
BEGIN:VEVENT
DTSTART;TZID=UTC-5:20180608T110000
DTEND;TZID=UTC-5:20180608T120000
DTSTAMP:20260423T165808
CREATED:20180530T204849Z
LAST-MODIFIED:20180530T210204Z
UID:2673-1528455600-1528459200@grezosp.com
SUMMARY:Échanges du GREZOSP
DESCRIPTION:Présentation avec Audrey-Ann Journault\, bachelière en psychologie et auxiliaire de recherche à l’IRSPUM\,\nDépartement de psychologie\, Université de Montréal \nAnnonce \nEn présentiel : Agora (Salle 2219‐1)\, 2e étage\nPavillon de santé publique vétérinaire\n3190 rue Sicotte\, Saint-Hyacinthe \nPar webconférence :\nhttp://univofmontreal.adobeconnect.com/grezosp/ \n
URL:http://grezosp.com/event/echanges-du-grezosp-21/
END:VEVENT
END:VCALENDAR