BEGIN:VCALENDAR
VERSION:2.0
PRODID:-//Grezosp - ECPv4.6.4//NONSGML v1.0//EN
CALSCALE:GREGORIAN
METHOD:PUBLISH
X-WR-CALNAME:Grezosp
X-ORIGINAL-URL:http://grezosp.com
X-WR-CALDESC:Events for Grezosp
BEGIN:VEVENT
DTSTART;TZID=UTC-5:20181011T120000
DTEND;TZID=UTC-5:20181011T130000
DTSTAMP:20260421T163651
CREATED:20180910T231159Z
LAST-MODIFIED:20181002T153027Z
UID:2936-1539259200-1539262800@grezosp.com
SUMMARY:Échanges du GREZOSP
DESCRIPTION:Présentation de Dre Hélène Carabin \nAnnonce \nEn présentiel :\nSalle 2115\, 2e étage\, Pavillon principal\n3200 rue Sicotte\, Saint-Hyacinthe \nPar webconférence :\nhttp://univofmontreal.adobeconnect.com/grezosp/ \n
URL:http://grezosp.com/event/echanges-du-grezosp-23/
LOCATION:3200\, rue Sicotte\, St-Hyacinthe\, Québec\, J2S 2M2\, Canada
END:VEVENT
END:VCALENDAR