BEGIN:VCALENDAR
VERSION:2.0
PRODID:-//Grezosp - ECPv4.6.4//NONSGML v1.0//EN
CALSCALE:GREGORIAN
METHOD:PUBLISH
X-WR-CALNAME:Grezosp
X-ORIGINAL-URL:http://grezosp.com
X-WR-CALDESC:Events for Grezosp
BEGIN:VEVENT
DTSTART;TZID=UTC-5:20181108T120000
DTEND;TZID=UTC-5:20181108T130000
DTSTAMP:20260421T105408
CREATED:20180911T001358Z
LAST-MODIFIED:20180911T001427Z
UID:2979-1541678400-1541682000@grezosp.com
SUMMARY:Échanges du GREZOSP
DESCRIPTION:En présentiel :\nSalle 2121\, 2e étage\, Pavillon principal\n3200 rue Sicotte\, Saint-Hyacinthe \nPar webconférence :\nhttp://univofmontreal.adobeconnect.com/grezosp/ \n
URL:http://grezosp.com/event/echanges-du-grezosp-27/
LOCATION:3200 rue Sicotte\, St-Hyacinthe\, Québec\, J2S2M2\, Canada
END:VEVENT
END:VCALENDAR