BEGIN:VCALENDAR
VERSION:2.0
PRODID:-//Grezosp - ECPv4.6.4//NONSGML v1.0//EN
CALSCALE:GREGORIAN
METHOD:PUBLISH
X-WR-CALNAME:Grezosp
X-ORIGINAL-URL:http://grezosp.com
X-WR-CALDESC:Events for Grezosp
BEGIN:VEVENT
DTSTART;TZID=UTC-5:20210121T120000
DTEND;TZID=UTC-5:20210121T131500
DTSTAMP:20260425T202438
CREATED:20210111T193318Z
LAST-MODIFIED:20210113T143426Z
UID:8511-1611230400-1611234900@grezosp.com
SUMMARY:Séminaires en épidémiologie
DESCRIPTION:Présentation de Ellen Jackson et Ariane Dumas\, étudiantes au doctorat \n
URL:http://grezosp.com/event/seminaires-en-epidemiologie-12/
END:VEVENT
END:VCALENDAR