BEGIN:VCALENDAR
VERSION:2.0
PRODID:-//Grezosp - ECPv4.6.4//NONSGML v1.0//EN
CALSCALE:GREGORIAN
METHOD:PUBLISH
X-WR-CALNAME:Grezosp
X-ORIGINAL-URL:http://grezosp.com
X-WR-CALDESC:Events for Grezosp
BEGIN:VEVENT
DTSTART;TZID=UTC-5:20210218T120000
DTEND;TZID=UTC-5:20210218T131500
DTSTAMP:20260425T172314
CREATED:20210211T200357Z
LAST-MODIFIED:20210211T200720Z
UID:8551-1613649600-1613654100@grezosp.com
SUMMARY:Séminaires en épidémiologie
DESCRIPTION:Présentations de: \n\nAgathe Allibert\, étudiante au doctorat: «Prendre en compte l’espace dans les modèles mathématiques épidémiologiques»\nCaroline Sauvé\, étudiante au doctorat: «Model-guided framework»\n\n
URL:http://grezosp.com/event/seminaires-en-epidemiologie-15/
END:VEVENT
END:VCALENDAR