BEGIN:VCALENDAR
VERSION:2.0
PRODID:-//Grezosp - ECPv4.6.4//NONSGML v1.0//EN
CALSCALE:GREGORIAN
METHOD:PUBLISH
X-WR-CALNAME:Grezosp
X-ORIGINAL-URL:http://grezosp.com
X-WR-CALDESC:Events for Grezosp
BEGIN:VEVENT
DTSTART;TZID=UTC-5:20210325T120000
DTEND;TZID=UTC-5:20210325T133000
DTSTAMP:20260425T215109
CREATED:20210211T201007Z
LAST-MODIFIED:20210322T190532Z
UID:8557-1616673600-1616679000@grezosp.com
SUMMARY:Séminaires en épidémiologie
DESCRIPTION:Deux présentations d’un concept épidémiologique et une présentation des résultats seront données : \n\nVitoria Régia Lima Campêlo : Mixed methods: Designs\, strengths and limitations (méthodes mixtes : Devis\, forces et limitations)\nSarah Mediouni : Mixed methods: validity and applications (méthodes mixtes : validité et applications)\nMarie-Christine Frenette : Étude spatio-temporel des renards et des chiens libres dans les communautés nordiques du Nunavik.\n\n
URL:http://grezosp.com/event/seminaires-en-epidemiologie-17/
END:VEVENT
END:VCALENDAR